BEGIN:VCALENDAR
VERSION:2.0
PRODID:-//Momo Events - ECPv6.8.3//NONSGML v1.0//EN
CALSCALE:GREGORIAN
METHOD:PUBLISH
X-WR-CALNAME:Momo Events
X-ORIGINAL-URL:https://momoevents.de
X-WR-CALDESC:Veranstaltungen für Momo Events
REFRESH-INTERVAL;VALUE=DURATION:PT1H
X-Robots-Tag:noindex
X-PUBLISHED-TTL:PT1H
BEGIN:VTIMEZONE
TZID:Europe/Berlin
BEGIN:DAYLIGHT
TZOFFSETFROM:+0100
TZOFFSETTO:+0200
TZNAME:CEST
DTSTART:20260329T010000
END:DAYLIGHT
BEGIN:STANDARD
TZOFFSETFROM:+0200
TZOFFSETTO:+0100
TZNAME:CET
DTSTART:20261025T010000
END:STANDARD
END:VTIMEZONE
BEGIN:VEVENT
DTSTART;TZID=Europe/Berlin:20260913T110000
DTEND;TZID=Europe/Berlin:20260913T170000
DTSTAMP:20260424T223056
CREATED:20260128T150835Z
LAST-MODIFIED:20260202T065919Z
UID:1883-1789297200-1789318800@momoevents.de
SUMMARY:StoffgeStöber
DESCRIPTION:DER Flohmarkt für Stoffe & Nähzubehör \nDu liebst Stoffe und Nähen? Dann ist das StoffgeStöber genau dein Event! Hier kannst du ungenutzte Stoffe\, Stoffreste\, Nähgarn\, Knöpfe\, Nähmaschinen\, Schneiderpuppen und allerlei Nähzubehör entdecken oder selbst verkaufen. \nFreu dich auf eine fröhliche Atmosphäre mit passender Musik und unserer StoffgeStöber-Bar\, die zum Verweilen\, Quatschen und Naschen einlädt. \nIm Eintrittspreis von nur 3\,- € ist ein Begrüßungsgetränk inklusive. \nDas StoffgeStöber ist mehr als ein Markt – es ist eine Community für alle\, die bewusst und mit Freude nähen\, stöbern und ihre Leidenschaft teilen wollen. \nKomm vorbei und finde neue Lieblingsstücke oder gib deinen Nähschätzen ein neues Zuhause! \n \n  \nAnmeldungen nehmen wir ab 01.06.2026 entgegen
URL:https://momoevents.de/event/stoffgestoeber09/
LOCATION:Ev. Gemeindehaus Birk\, Auf der Löh 2F\, Lohmar\, NRW\, 53797
END:VEVENT
END:VCALENDAR