BEGIN:VCALENDAR
VERSION:2.0
PRODID:-//Momo Events - ECPv6.8.3//NONSGML v1.0//EN
CALSCALE:GREGORIAN
METHOD:PUBLISH
X-ORIGINAL-URL:https://momoevents.de
X-WR-CALDESC:Veranstaltungen für Momo Events
REFRESH-INTERVAL;VALUE=DURATION:PT1H
X-Robots-Tag:noindex
X-PUBLISHED-TTL:PT1H
BEGIN:VTIMEZONE
TZID:Europe/Berlin
BEGIN:DAYLIGHT
TZOFFSETFROM:+0100
TZOFFSETTO:+0200
TZNAME:CEST
DTSTART:20250330T010000
END:DAYLIGHT
BEGIN:STANDARD
TZOFFSETFROM:+0200
TZOFFSETTO:+0100
TZNAME:CET
DTSTART:20251026T010000
END:STANDARD
BEGIN:DAYLIGHT
TZOFFSETFROM:+0100
TZOFFSETTO:+0200
TZNAME:CEST
DTSTART:20260329T010000
END:DAYLIGHT
BEGIN:STANDARD
TZOFFSETFROM:+0200
TZOFFSETTO:+0100
TZNAME:CET
DTSTART:20261025T010000
END:STANDARD
END:VTIMEZONE
BEGIN:VEVENT
DTSTART;TZID=Europe/Berlin:20260201T110000
DTEND;TZID=Europe/Berlin:20260201T160000
DTSTAMP:20260424T175930
CREATED:20250529T191036Z
LAST-MODIFIED:20250604T174419Z
UID:1474-1769943600-1769961600@momoevents.de
SUMMARY:StoffgeStöber
DESCRIPTION:Flohmarkt für Stoffe & Nähzubehör \nDu liebst Stoffe und Nähen? Dann ist das StoffgeStöber genau dein Event! Hier kannst du ungenutzte Stoffe\, Stoffreste\, Nähgarn\, Knöpfe\, Nähmaschinen\, Schneiderpuppen und allerlei Nähzubehör entdecken oder selbst verkaufen. \n🎭 Pünktlich zur fünften Jahreszeit erwartet dich bei uns außerdem eine Auswahl an kunterbunten\, glänzenden oder glitzernden Stoffen sowie Karnevalszubehör zum Vernähen! \nFreu dich auf eine fröhliche Atmosphäre mit passender Musik und unserer StoffgeStöber-Bar\, die zum Verweilen\, Quatschen und Naschen einlädt. \nIm Eintrittspreis von nur 3\,- € ist ein Begrüßungsgetränk inklusive. \nDas StoffgeStöber ist mehr als ein Markt – es ist eine Community für alle\, die bewusst und mit Freude nähen\, stöbern und ihre Leidenschaft teilen wollen. \nKomm vorbei und finde neue Lieblingsstücke oder gib deinen Nähschätzen ein neues Zuhause! \n \nZu den Teilnahmebedingungen
URL:https://momoevents.de/event/stoffgestoeber-2/
LOCATION:Ev. Gemeindezentrum Siegburg-Brückberg\, Jahnstr. 4\, Siegburg\, NRW\, 53721\, Germany
ATTACH;FMTTYPE=image/png:https://momoevents.de/wp-content/uploads/2024/12/SgeS_header_solo01.png
END:VEVENT
BEGIN:VEVENT
DTSTART;TZID=Europe/Berlin:20251121T170000
DTEND;TZID=Europe/Berlin:20251122T190000
DTSTAMP:20260424T175930
CREATED:20231226T191219Z
LAST-MODIFIED:20251110T060230Z
UID:167-1763744400-1763838000@momoevents.de
SUMMARY:Lieblingsstücke - Weihnachtsmarkt (Fr. & Sa.)
DESCRIPTION:Kreative aus der Region zeigen an zwei Tagen ihre einzigartigen\, mit Liebe hergestellten Produkte.\nDas perfekte Event\, um besondere Weihnachtsgeschenke zu finden und in Stimmung zu kommen.\nListe der Kunsthandwerker*innen 2025\n  \nWann?\n📅 Freitag\, 21.11.2025 von 17 – 21 Uhr: Lieblingsstücke Ladies Night\n📅 Samstag\, 22.11.2025 von 12 – 19 Uhr: Lieblingsstücke Familientag\n📍 Auf dem überdachten Gelände von A&S Das Gartencenter
URL:https://momoevents.de/event/lieblingsstuecke-weihnachtsmarkt/
LOCATION:Gartencenter Ahrens & Sieberz\, Hauptstraße 436\, Siegburg\, NRW\, 53721\, Deutschland
CATEGORIES:Markt
ATTACH;FMTTYPE=image/png:https://momoevents.de/wp-content/uploads/2023/12/Kopie-von-Herbst-Tafel-Babyparty-Facebook-Veranstaltung-Cover-Foto-2.png
END:VEVENT
END:VCALENDAR